BEGIN:VCALENDAR
VERSION:2.0
PRODID:-//Projet inclusion - ECPv5.11.0//NONSGML v1.0//EN
CALSCALE:GREGORIAN
METHOD:PUBLISH
X-WR-CALNAME:Projet inclusion
X-ORIGINAL-URL:https://pceim.ca
X-WR-CALDESC:évènements pour Projet inclusion
BEGIN:VTIMEZONE
TZID:UTC
BEGIN:STANDARD
TZOFFSETFROM:+0000
TZOFFSETTO:+0000
TZNAME:UTC
DTSTART:20200101T000000
END:STANDARD
END:VTIMEZONE
BEGIN:VEVENT
DTSTART;TZID=UTC:20200304T120000
DTEND;TZID=UTC:20200304T140000
DTSTAMP:20260422T061009
CREATED:20200106T171511Z
LAST-MODIFIED:20200106T171511Z
UID:1155-1583323200-1583330400@pceim.ca
SUMMARY:Dîner au restaurant
DESCRIPTION:DÎNER AU RESTAURANT\nRestaurant Sandhu | 4548\, avenue Papineau\n12h à 14h | 10$ | Cuisine italienne et indienne \nLe mercredi 4 mars\, de 12h à 14h\, venez dîner au Sandhu entre membres. Au menu : des plats italiens et indiens ainsi que des discussions animées! 10$ par personne (repas\, dessert et café). Places limitées\, inscription au 514-255-1054.
URL:https://pceim.ca/evenement/diner-au-restaurant/
LOCATION:Restaurant Sandhu\, 4548 avenue Papineau
CATEGORIES:ACTIVITÉ ORGANISÉE PAR LES MEMBRES
END:VEVENT
END:VCALENDAR