BEGIN:VCALENDAR
VERSION:2.0
PRODID:-//Projet inclusion - ECPv5.11.0//NONSGML v1.0//EN
CALSCALE:GREGORIAN
METHOD:PUBLISH
X-WR-CALNAME:Projet inclusion
X-ORIGINAL-URL:https://pceim.ca
X-WR-CALDESC:évènements pour Projet inclusion
BEGIN:VTIMEZONE
TZID:UTC
BEGIN:STANDARD
TZOFFSETFROM:+0000
TZOFFSETTO:+0000
TZNAME:UTC
DTSTART:20190101T000000
END:STANDARD
END:VTIMEZONE
BEGIN:VEVENT
DTSTART;TZID=UTC:20190305T120000
DTEND;TZID=UTC:20190305T130000
DTSTAMP:20260424T025709
CREATED:20190118T183232Z
LAST-MODIFIED:20190118T183232Z
UID:723-1551787200-1551790800@pceim.ca
SUMMARY:Dîner communautaire
DESCRIPTION:On vous propose un moment pour venir discuter\, partager et échanger entre membres : les dîners communautaires au PCEIM! Une fois par mois\, précédant le café-rencontre d’après-midi\, venez dîner\, discuter\, et passer un moment ensemble au PCEIM. La formule est simple : apportez votre lunch\, on fournit le dessert et le café. \nDÎNER COMMUNAUTAIRE\nPCEIM | 5350\, rue Lafond\n12h à 13h | Gratuit\nApportez votre lunch\, on fournit café et dessert
URL:https://pceim.ca/evenement/diner-communautaire-2/
LOCATION:PCEIM\, 5350 rue Lafond\, Montréal\, Québec\, H1X 2X2\, Canada
CATEGORIES:PROJET DE L'ORGANISME
END:VEVENT
END:VCALENDAR