BEGIN:VCALENDAR
VERSION:2.0
PRODID:-//Projet inclusion - ECPv5.11.0//NONSGML v1.0//EN
CALSCALE:GREGORIAN
METHOD:PUBLISH
X-WR-CALNAME:Projet inclusion
X-ORIGINAL-URL:https://pceim.ca
X-WR-CALDESC:évènements pour Projet inclusion
BEGIN:VTIMEZONE
TZID:UTC
BEGIN:STANDARD
TZOFFSETFROM:+0000
TZOFFSETTO:+0000
TZNAME:UTC
DTSTART:20230101T000000
END:STANDARD
END:VTIMEZONE
BEGIN:VEVENT
DTSTART;TZID=UTC:20230119T130000
DTEND;TZID=UTC:20230119T180000
DTSTAMP:20260418T204147
CREATED:20230111T193547Z
LAST-MODIFIED:20230111T193547Z
UID:1927-1674133200-1674151200@pceim.ca
SUMMARY:Epicerie solidaire
DESCRIPTION:Epicerie économique pour les citoyen·ne·s de Rosemont vivant une situation précaire. Vous y trouverez des produits alimentaires non-perissables en conserve et en vrac\, des produits d’hygiène ainsi que des fruits et légumes.
URL:https://pceim.ca/evenement/epicerie-solidaire/
LOCATION:6178\, 19e avenue
CATEGORIES:ACTIVITÉ DE PARTENAIRE
END:VEVENT
END:VCALENDAR