BEGIN:VCALENDAR
VERSION:2.0
PRODID:-//Projet inclusion - ECPv5.11.0//NONSGML v1.0//EN
CALSCALE:GREGORIAN
METHOD:PUBLISH
X-WR-CALNAME:Projet inclusion
X-ORIGINAL-URL:https://pceim.ca
X-WR-CALDESC:évènements pour Projet inclusion
BEGIN:VTIMEZONE
TZID:UTC
BEGIN:STANDARD
TZOFFSETFROM:+0000
TZOFFSETTO:+0000
TZNAME:UTC
DTSTART:20190101T000000
END:STANDARD
END:VTIMEZONE
BEGIN:VEVENT
DTSTART;TZID=UTC:20190416T150000
DTEND;TZID=UTC:20190416T173000
DTSTAMP:20260424T041044
CREATED:20190325T181408Z
LAST-MODIFIED:20190325T181531Z
UID:773-1555426800-1555435800@pceim.ca
SUMMARY:EXEKO: Co-rédaction de charte d'accessibilité culturelle
DESCRIPTION:Pour faire suite au projet Culture partagée\, Exeko vous invite à des rencontres pour corédiger une charte d’accessibilité culturelle participative et inclusive et identifier les meilleures pratiques d’accessibilité aux institutions culturelles. \nMARDI 16 AVRIL 2019 :\nLieu à confirmer | 15h à 17h30 \nIl n’est pas nécessaire d’assister aux deux rencontres puisque chacune porte sur un thème distinct. Une rémunération de 15$ par séance sera offerte à chaque participant. La participation préalable à une sortie Culture partagée est préférable mais pas requise. Information : 514-255-1054 \n\n+ GOOGLE AGENDA+ EXPORTER VERS ICAL
URL:https://pceim.ca/evenement/exeko-co-redaction-de-charte-daccessibilite-culturelle-3/
CATEGORIES:ACTIVITÉ DE PARTENAIRE
END:VEVENT
END:VCALENDAR