BEGIN:VCALENDAR
VERSION:2.0
PRODID:-//Projet inclusion - ECPv5.11.0//NONSGML v1.0//EN
CALSCALE:GREGORIAN
METHOD:PUBLISH
X-WR-CALNAME:Projet inclusion
X-ORIGINAL-URL:https://pceim.ca
X-WR-CALDESC:évènements pour Projet inclusion
BEGIN:VTIMEZONE
TZID:UTC
BEGIN:STANDARD
TZOFFSETFROM:+0000
TZOFFSETTO:+0000
TZNAME:UTC
DTSTART:20180101T000000
END:STANDARD
END:VTIMEZONE
BEGIN:VEVENT
DTSTART;TZID=UTC:20180207T183000
DTEND;TZID=UTC:20180207T224500
DTSTAMP:20260424T101056
CREATED:20180109T191643Z
LAST-MODIFIED:20180109T191738Z
UID:367-1518028200-1518043500@pceim.ca
SUMMARY:Exeko - Rencontre 2/3
DESCRIPTION:Partagez un repas et faites une sortie au théâtre gratuitement en vous impliquant dans un projet d’envergure! Le PCEIM est partenaire du projet Culture partagée\, issu du laboratoire d’innovation sociale d’Exeko. Ce projet vise à développer un réseau et une programmation culturelle montréalaise plus inclusive et enrichie du regard de chacun. Cette session\, vous pourrez assister à une représentation de la pièce Les Fourberies de Scapin au TNM. Pour participer\, vous devez vous inscrire et être disponible pour les trois rencontres suivantes : \nVENDREDI 2 FÉVRIER 2018 : ATELIER PRÉPARATOIRE\n84 Ste-Catherine (Théâtre du Nouveau Monde) | 13h à 15h \nMERCREDI 7 FÉVRIER 2018 : SOUPER ET SPECTACLE\nPièce : Les Fourberies de Scapin | 18h30 à 22h45\n84 Rue Sainte-Catherine (Théâtre du Nouveau Monde) \nVENDREDI 9 FÉVRIER 2018 : ATELIER EXPLORATION & ANALYSE\n5445 Avenue de Gaspé\, Local 405 (Exeko) | 13h à 15h
URL:https://pceim.ca/evenement/exeko-rencontre-2-3/
LOCATION:Théâtre du Nouveau Monde\, 84\, rue Sainte-Catherine\, Montréal\, Québec\, Canada
CATEGORIES:ACTIVITÉ DE PARTENAIRE
END:VEVENT
END:VCALENDAR