BEGIN:VCALENDAR
VERSION:2.0
PRODID:-//Projet inclusion - ECPv5.11.0//NONSGML v1.0//EN
CALSCALE:GREGORIAN
METHOD:PUBLISH
X-WR-CALNAME:Projet inclusion
X-ORIGINAL-URL:https://pceim.ca
X-WR-CALDESC:évènements pour Projet inclusion
BEGIN:VTIMEZONE
TZID:UTC
BEGIN:STANDARD
TZOFFSETFROM:+0000
TZOFFSETTO:+0000
TZNAME:UTC
DTSTART:20180101T000000
END:STANDARD
END:VTIMEZONE
BEGIN:VEVENT
DTSTART;VALUE=DATE:20181105
DTEND;VALUE=DATE:20181201
DTSTAMP:20260424T041030
CREATED:20181108T141104Z
LAST-MODIFIED:20181108T141104Z
UID:669-1541376000-1543622399@pceim.ca
SUMMARY:Expo photo à Temps Libre Mile-End
DESCRIPTION:Notre projet photo LES VISAGES DE L’INCLUSION est maintenant en exposition à Temps libre Mile End! \nDu 5 au 30 novembre\, venez découvrir les résultats d’une série d’ateliers d’initiation à la photographie offerte par la Maison Photo Montréal aux membres du Parrainage Civique de l’Est de l’Île de Montréal (PCEIM). \nEn plus\, le jeudi 15 novembre prochain\, de 12h30 à 13h30\, Luce Vallières de la Maison Photo Montréal animera un midi-conférence avec notre chargée des communications Justine Israël\, où elles vous présenteront en détail le processus et le projet menant à cette expo! \n\nEXPO\n5-30 novembre 2018\nLundi au vendredi | 9h-17h\n5605 de Gaspé #106 \nMIDI-CONFÉRENCE\nJeudi 15 novembre\n12h30-13h30\n5605 de Gaspé #106
URL:https://pceim.ca/evenement/expo-photo-a-temps-libre-mile-end/
LOCATION:Temps Libre Mile-End\, 5605 de Gaspé #106\, Montréal\, Québec\, Canada
CATEGORIES:ÉVÈNEMENT
END:VEVENT
END:VCALENDAR