BEGIN:VCALENDAR
VERSION:2.0
PRODID:-//Projet inclusion - ECPv5.11.0//NONSGML v1.0//EN
CALSCALE:GREGORIAN
METHOD:PUBLISH
X-WR-CALNAME:Projet inclusion
X-ORIGINAL-URL:https://pceim.ca
X-WR-CALDESC:évènements pour Projet inclusion
BEGIN:VTIMEZONE
TZID:UTC
BEGIN:STANDARD
TZOFFSETFROM:+0000
TZOFFSETTO:+0000
TZNAME:UTC
DTSTART:20180101T000000
END:STANDARD
END:VTIMEZONE
BEGIN:VEVENT
DTSTART;TZID=UTC:20180320T133000
DTEND;TZID=UTC:20180320T153000
DTSTAMP:20260424T072419
CREATED:20180109T211320Z
LAST-MODIFIED:20180109T211320Z
UID:410-1521552600-1521559800@pceim.ca
SUMMARY:Exposition Napoléon
DESCRIPTION:Le mardi 20 mars\, de 13h30 à 15h30\, faites une visite guidée de l’expo Napoléon au Musée des beaux-arts. Cette exposition fera revivre l’ambiance de la cour de France au temps du Premier Empire. Les places sont limitées\, inscrivez-vous au 514-255-1054.
URL:https://pceim.ca/evenement/exposition-napoleon/
LOCATION:Musée des beaux-arts de Montréal\, 2200\, rue Crescent\, Montréal\, Quebec\, Canada
CATEGORIES:PROJET DE L'ORGANISME
END:VEVENT
END:VCALENDAR