BEGIN:VCALENDAR
VERSION:2.0
PRODID:-//Projet inclusion - ECPv5.11.0//NONSGML v1.0//EN
CALSCALE:GREGORIAN
METHOD:PUBLISH
X-WR-CALNAME:Projet inclusion
X-ORIGINAL-URL:https://pceim.ca
X-WR-CALDESC:évènements pour Projet inclusion
BEGIN:VTIMEZONE
TZID:UTC
BEGIN:STANDARD
TZOFFSETFROM:+0000
TZOFFSETTO:+0000
TZNAME:UTC
DTSTART:20230101T000000
END:STANDARD
END:VTIMEZONE
BEGIN:VEVENT
DTSTART;TZID=UTC:20230124T140000
DTEND;TZID=UTC:20230124T160000
DTSTAMP:20260421T184554
CREATED:20230111T192613Z
LAST-MODIFIED:20230111T192613Z
UID:1923-1674568800-1674576000@pceim.ca
SUMMARY:Exposition Nelson Henricks
DESCRIPTION:RESERVE AUX MEMBRES – INSCRIPTION OBLIGATOIRE \nViens découvrir l’artiste montréalais Nelson Henricks lors d’une visite au Musée d’Art Contemporain en compagnie des membres du PCEIM. Celui-ci a réalisé des oeuvres immersives et développé une fascinante démarche qui explore différents sujets de l’histoire de l’art et de la culture.
URL:https://pceim.ca/evenement/exposition-nelson-henricks/
LOCATION:Musée des beaux-arts de Montréal\, 2200\, rue Crescent\, Montréal\, Quebec\, Canada
CATEGORIES:PROJET DE L'ORGANISME
END:VEVENT
END:VCALENDAR