BEGIN:VCALENDAR
VERSION:2.0
PRODID:-//Projet inclusion - ECPv5.11.0//NONSGML v1.0//EN
CALSCALE:GREGORIAN
METHOD:PUBLISH
X-WR-CALNAME:Projet inclusion
X-ORIGINAL-URL:https://pceim.ca
X-WR-CALDESC:évènements pour Projet inclusion
BEGIN:VTIMEZONE
TZID:UTC
BEGIN:STANDARD
TZOFFSETFROM:+0000
TZOFFSETTO:+0000
TZNAME:UTC
DTSTART:20190101T000000
END:STANDARD
END:VTIMEZONE
BEGIN:VEVENT
DTSTART;TZID=UTC:20190313T124500
DTEND;TZID=UTC:20190313T143000
DTSTAMP:20260424T035957
CREATED:20190118T184144Z
LAST-MODIFIED:20190306T153843Z
UID:729-1552481100-1552487400@pceim.ca
SUMMARY:Exposition Thierry Mugler
DESCRIPTION:Le mercredi 13 mars\, de 12h45 à 14h30\, on propose une visite guidée pour découvrir l’expo sur le couturier visionnaire\, metteur en scène et photographe français Thierry Mugler au Musée des beaux-arts! Places limitées\, inscription au 514-255-1054. \nEXPOSITION THIERRY MUGLER\nMusée des beaux-arts | 2200\, rue Crescent\n12h45 à 14h30 | Gratuit | Places limitées
URL:https://pceim.ca/evenement/exposition-thierry-mugler/
LOCATION:Musée des beaux-arts de Montréal\, 2200\, rue Crescent\, Montréal\, Quebec\, Canada
CATEGORIES:ACTIVITÉ ORGANISÉE PAR LES MEMBRES,PROJET DE L'ORGANISME
ATTACH;FMTTYPE=image/jpeg:https://pceim.ca/wp-content/uploads/2019/01/thierry-mugler.jpg
END:VEVENT
END:VCALENDAR