BEGIN:VCALENDAR
VERSION:2.0
PRODID:-//Projet inclusion - ECPv5.11.0//NONSGML v1.0//EN
CALSCALE:GREGORIAN
METHOD:PUBLISH
X-WR-CALNAME:Projet inclusion
X-ORIGINAL-URL:https://pceim.ca
X-WR-CALDESC:évènements pour Projet inclusion
BEGIN:VTIMEZONE
TZID:UTC
BEGIN:STANDARD
TZOFFSETFROM:+0000
TZOFFSETTO:+0000
TZNAME:UTC
DTSTART:20180101T000000
END:STANDARD
END:VTIMEZONE
BEGIN:VEVENT
DTSTART;TZID=UTC:20181018T143000
DTEND;TZID=UTC:20181018T170000
DTSTAMP:20260422T104233
CREATED:20180925T211149Z
LAST-MODIFIED:20180925T211149Z
UID:632-1539873000-1539882000@pceim.ca
SUMMARY:Festival de film Au contraire
DESCRIPTION:Visionnement de films documentaires en lien avec la santé mentale \n1379-A\, rue Sherbrooke O | 14h30 à 17h \nGratuit
URL:https://pceim.ca/evenement/festival-de-film-contraire/
CATEGORIES:ACTIVITÉ DE PARTENAIRE
END:VEVENT
END:VCALENDAR