BEGIN:VCALENDAR
VERSION:2.0
PRODID:-//Projet inclusion - ECPv5.11.0//NONSGML v1.0//EN
CALSCALE:GREGORIAN
METHOD:PUBLISH
X-WR-CALNAME:Projet inclusion
X-ORIGINAL-URL:https://pceim.ca
X-WR-CALDESC:évènements pour Projet inclusion
BEGIN:VTIMEZONE
TZID:UTC
BEGIN:STANDARD
TZOFFSETFROM:+0000
TZOFFSETTO:+0000
TZNAME:UTC
DTSTART:20180101T000000
END:STANDARD
END:VTIMEZONE
BEGIN:VEVENT
DTSTART;TZID=UTC:20181213T173000
DTEND;TZID=UTC:20181213T200000
DTSTAMP:20260424T035340
CREATED:20180925T212807Z
LAST-MODIFIED:20180925T212807Z
UID:662-1544722200-1544731200@pceim.ca
SUMMARY:Fête de Noël
DESCRIPTION:Le jeudi 13 décembre\, de 17h30 à 20h\, soyez des nôtres pour la traditionnelle fête de Noël du PCEIM! Venez manger\, boire\, échanger et fêter entre membres et bénévoles pour souligner les fêtes de fin d’année. Places limitées\, inscription au 514-255-1054.
URL:https://pceim.ca/evenement/fete-de-noel-2/
LOCATION:PCEIM\, 5350 rue Lafond\, Montréal\, Québec\, H1X 2X2\, Canada
CATEGORIES:ÉVÈNEMENT
END:VEVENT
END:VCALENDAR