BEGIN:VCALENDAR
VERSION:2.0
PRODID:-//Projet inclusion - ECPv5.11.0//NONSGML v1.0//EN
CALSCALE:GREGORIAN
METHOD:PUBLISH
X-WR-CALNAME:Projet inclusion
X-ORIGINAL-URL:https://pceim.ca
X-WR-CALDESC:évènements pour Projet inclusion
BEGIN:VTIMEZONE
TZID:UTC
BEGIN:STANDARD
TZOFFSETFROM:+0000
TZOFFSETTO:+0000
TZNAME:UTC
DTSTART:20210101T000000
END:STANDARD
END:VTIMEZONE
BEGIN:VEVENT
DTSTART;TZID=UTC:20211210T113000
DTEND;TZID=UTC:20211210T140000
DTSTAMP:20260422T065935
CREATED:20211214T162023Z
LAST-MODIFIED:20211214T162023Z
UID:1505-1639135800-1639144800@pceim.ca
SUMMARY:Fête de Noël
DESCRIPTION:Le vendredi 10 décembre\, soyez des nôtres pour la fête de Noël du PCEIM! Venez profiter de ce moment d’échange entre membres\, agrémenté d’un repas et d’un breuvage\, d’une douceur sucrée\, de quelques surprises et de musique du temps des fêtes. Coût : 10$/personne.
URL:https://pceim.ca/evenement/fete-de-noel-3/
LOCATION:PCEIM\, 5350 rue Lafond\, Montréal\, Québec\, H1X 2X2\, Canada
CATEGORIES:ÉVÈNEMENT
END:VEVENT
END:VCALENDAR