BEGIN:VCALENDAR
VERSION:2.0
PRODID:-//Projet inclusion - ECPv5.11.0//NONSGML v1.0//EN
CALSCALE:GREGORIAN
METHOD:PUBLISH
X-WR-CALNAME:Projet inclusion
X-ORIGINAL-URL:https://pceim.ca
X-WR-CALDESC:évènements pour Projet inclusion
BEGIN:VTIMEZONE
TZID:UTC
BEGIN:STANDARD
TZOFFSETFROM:+0000
TZOFFSETTO:+0000
TZNAME:UTC
DTSTART:20170101T000000
END:STANDARD
END:VTIMEZONE
BEGIN:VEVENT
DTSTART;TZID=UTC:20171213T180000
DTEND;TZID=UTC:20171213T200000
DTSTAMP:20260424T100211
CREATED:20171204T153416Z
LAST-MODIFIED:20171206T130930Z
UID:321-1513188000-1513195200@pceim.ca
SUMMARY:Fête de Noël
DESCRIPTION:Le PCEIM est heureux de vous convier à la fête de Noël de l’organisme\, organisée par un comité de membres et bénévoles qui vous préparent une superbe soirée qu’ils ont nommé Cœurs en Fête.  Au menu : souper\, consommations\, petites douceurs\, musique\, jeux et quelques surprises! \n  \nMercredi 13 décembre 2017 | 18h à 20h \nPCEIM | 5350\, rue Lafond \n10$ par personne \n  \n*Veuillez noter que votre cotisation de membre 2017 doit être payée pour pouvoir participer à la fête de Noël. Cela coûte 5$\, qui peut être ajouté à votre paiement si vous ne l’avez pas encore payée.
URL:https://pceim.ca/evenement/fete-de-noel/
LOCATION:PCEIM\, 5350 rue Lafond\, Montréal\, Québec\, H1X 2X2\, Canada
CATEGORIES:ÉVÈNEMENT
END:VEVENT
END:VCALENDAR