BEGIN:VCALENDAR
VERSION:2.0
PRODID:-//Projet inclusion - ECPv5.11.0//NONSGML v1.0//EN
CALSCALE:GREGORIAN
METHOD:PUBLISH
X-WR-CALNAME:Projet inclusion
X-ORIGINAL-URL:https://pceim.ca
X-WR-CALDESC:évènements pour Projet inclusion
BEGIN:VTIMEZONE
TZID:UTC
BEGIN:STANDARD
TZOFFSETFROM:+0000
TZOFFSETTO:+0000
TZNAME:UTC
DTSTART:20190101T000000
END:STANDARD
END:VTIMEZONE
BEGIN:VEVENT
DTSTART;TZID=UTC:20191030T173000
DTEND;TZID=UTC:20191030T193000
DTSTAMP:20260423T014051
CREATED:20190922T210242Z
LAST-MODIFIED:20190922T210242Z
UID:1079-1572456600-1572463800@pceim.ca
SUMMARY:Fête d'Halloween
DESCRIPTION:Le mercredi 30 octobre\, venez fêter l’Halloween au PCEIM! De 17h30 à 19h30\, on vous accueille pour une soirée agrémentée de musique\, d’activités et de grignotines. On vous prépare toute une soirée… plusieurs surprises seront au rendez-vous\, venez déguisés si vous les souhaitez! La soirée se tient au PCEIM (5350\, rue Lafond)\, au coût de 5$ par personne. Inscription au 514-255-1054.
URL:https://pceim.ca/evenement/fete-dhalloween-2/
LOCATION:PCEIM\, 5350 rue Lafond\, Montréal\, Québec\, H1X 2X2\, Canada
CATEGORIES:ÉVÈNEMENT
END:VEVENT
END:VCALENDAR