BEGIN:VCALENDAR
VERSION:2.0
PRODID:-//Projet inclusion - ECPv5.11.0//NONSGML v1.0//EN
CALSCALE:GREGORIAN
METHOD:PUBLISH
X-WR-CALNAME:Projet inclusion
X-ORIGINAL-URL:https://pceim.ca
X-WR-CALDESC:évènements pour Projet inclusion
BEGIN:VTIMEZONE
TZID:UTC
BEGIN:STANDARD
TZOFFSETFROM:+0000
TZOFFSETTO:+0000
TZNAME:UTC
DTSTART:20180101T000000
END:STANDARD
END:VTIMEZONE
BEGIN:VEVENT
DTSTART;TZID=UTC:20180406T133000
DTEND;TZID=UTC:20180406T153000
DTSTAMP:20260422T104111
CREATED:20180323T154715Z
LAST-MODIFIED:20180323T155840Z
UID:463-1523021400-1523028600@pceim.ca
SUMMARY:Jardin botanique : Papillons en liberté
DESCRIPTION:Le vendredi 6 avril\, de 13h30 à 15h30\, profitez d’une escale nature permettant de découvrir l’habitat des papillons et apprenez comment recréer un magnifique et invitant jardin à papillons. 8$/personne. Places limitées\, inscription au 514-255-1054. \nÀ noter : cette activité est non-accessible aux personnes nécessitant une assistance dans les déplacements
URL:https://pceim.ca/evenement/jardin-botanique-papillons-liberte/
LOCATION:Jardin botanique\, 4101 rue Sherbrooke est\, Montréal\, Québec\, H1X 2B2\, Canada
CATEGORIES:ACTIVITÉ ORGANISÉE PAR LES MEMBRES
ATTACH;FMTTYPE=image/jpeg:https://pceim.ca/wp-content/uploads/2018/03/802964_detail_eplv.jpg
END:VEVENT
END:VCALENDAR