BEGIN:VCALENDAR
VERSION:2.0
PRODID:-//Projet inclusion - ECPv5.11.0//NONSGML v1.0//EN
CALSCALE:GREGORIAN
METHOD:PUBLISH
X-WR-CALNAME:Projet inclusion
X-ORIGINAL-URL:https://pceim.ca
X-WR-CALDESC:évènements pour Projet inclusion
BEGIN:VTIMEZONE
TZID:UTC
BEGIN:STANDARD
TZOFFSETFROM:+0000
TZOFFSETTO:+0000
TZNAME:UTC
DTSTART:20230101T000000
END:STANDARD
END:VTIMEZONE
BEGIN:VEVENT
DTSTART;TZID=UTC:20230318T150000
DTEND;TZID=UTC:20230319T180000
DTSTAMP:20260421T023904
CREATED:20230220T195148Z
LAST-MODIFIED:20230220T195148Z
UID:2046-1679151600-1679248800@pceim.ca
SUMMARY:Libre espace
DESCRIPTION:Lieu d’appartenance lieu d’appartenance accueillant\, chaleureux et inclusif pour les personnes qui se trouvent dans un situation de grande précarité. Accueillant\, chaleureux et inclusif pour les personnes qui se trouvent dans un situation de grande précarité.
URL:https://pceim.ca/evenement/libre-espace-11/
CATEGORIES:ACTIVITÉ DE PARTENAIRE,PROJET DE L'ORGANISME
END:VEVENT
END:VCALENDAR