BEGIN:VCALENDAR
VERSION:2.0
PRODID:-//Projet inclusion - ECPv5.11.0//NONSGML v1.0//EN
CALSCALE:GREGORIAN
METHOD:PUBLISH
X-WR-CALNAME:Projet inclusion
X-ORIGINAL-URL:https://pceim.ca
X-WR-CALDESC:évènements pour Projet inclusion
BEGIN:VTIMEZONE
TZID:UTC
BEGIN:STANDARD
TZOFFSETFROM:+0000
TZOFFSETTO:+0000
TZNAME:UTC
DTSTART:20230101T000000
END:STANDARD
END:VTIMEZONE
BEGIN:VEVENT
DTSTART;TZID=UTC:20230211T143000
DTEND;TZID=UTC:20230212T183000
DTSTAMP:20260420T234614
CREATED:20230118T192205Z
LAST-MODIFIED:20230118T192205Z
UID:1969-1676125800-1676226600@pceim.ca
SUMMARY:Libre Espace
DESCRIPTION:Lieu d’appartenance lieu d’appartenance accueillant\, chaleureux et inclusif pour les personnes qui se trouvent dans un situation de grande précarité. accueillant\, chaleureux et inclusif pour les personnes qui se trouvent dans un situation de grande précarité.
URL:https://pceim.ca/evenement/libre-espace-6/
LOCATION:Libre espace\, 5365 1ère Avenue\, Montreal\, H1Y2Z8
CATEGORIES:PROJET DE L'ORGANISME
END:VEVENT
END:VCALENDAR