BEGIN:VCALENDAR
VERSION:2.0
PRODID:-//Projet inclusion - ECPv5.11.0//NONSGML v1.0//EN
CALSCALE:GREGORIAN
METHOD:PUBLISH
X-WR-CALNAME:Projet inclusion
X-ORIGINAL-URL:https://pceim.ca
X-WR-CALDESC:évènements pour Projet inclusion
BEGIN:VTIMEZONE
TZID:UTC
BEGIN:STANDARD
TZOFFSETFROM:+0000
TZOFFSETTO:+0000
TZNAME:UTC
DTSTART:20180101T000000
END:STANDARD
END:VTIMEZONE
BEGIN:VEVENT
DTSTART;TZID=UTC:20181014T103000
DTEND;TZID=UTC:20181014T130000
DTSTAMP:20260424T030015
CREATED:20180925T210833Z
LAST-MODIFIED:20180925T210833Z
UID:625-1539513000-1539522000@pceim.ca
SUMMARY:Montréal marche pour la santé mentale
DESCRIPTION:Marche pour sensibiliser à la santé mentale \nPlace Émilie-Gamelin | 10h30 à 13h\nPoint de rencontre coin dans le parc\, coin St-Hubert et Ste-Catherine
URL:https://pceim.ca/evenement/montreal-marche-sante-mentale/
LOCATION:Place Émilie-Gamelin
CATEGORIES:ACTIVITÉ DE PARTENAIRE
END:VEVENT
END:VCALENDAR