BEGIN:VCALENDAR
VERSION:2.0
PRODID:-//Projet inclusion - ECPv5.11.0//NONSGML v1.0//EN
CALSCALE:GREGORIAN
METHOD:PUBLISH
X-WR-CALNAME:Projet inclusion
X-ORIGINAL-URL:https://pceim.ca
X-WR-CALDESC:évènements pour Projet inclusion
BEGIN:VTIMEZONE
TZID:UTC
BEGIN:STANDARD
TZOFFSETFROM:+0000
TZOFFSETTO:+0000
TZNAME:UTC
DTSTART:20190101T000000
END:STANDARD
END:VTIMEZONE
BEGIN:VEVENT
DTSTART;TZID=UTC:20190627T131500
DTEND;TZID=UTC:20190627T150000
DTSTAMP:20260424T002918
CREATED:20180925T212040Z
LAST-MODIFIED:20190515T192210Z
UID:646-1561641300-1561647600@pceim.ca
SUMMARY:Musée en partage
DESCRIPTION:Le jeudi 27 juin\, de 13h15 à 15h\, prenez part à une visite guidée de l’exposition permanente : Art québécois et canadien ! Activité gratuite\, les places sont limitées\, inscrivez-vous au 514-255-1054. \n+ GOOGLE AGENDA+ EXPORTER VERS ICAL
URL:https://pceim.ca/evenement/musee-beaux-arts-3/
LOCATION:Musée des beaux-arts de Montréal\, 2200\, rue Crescent\, Montréal\, Quebec\, Canada
CATEGORIES:ACTIVITÉ ORGANISÉE PAR LES MEMBRES
ATTACH;FMTTYPE=image/jpeg:https://pceim.ca/wp-content/uploads/2018/09/mbam.jpg
END:VEVENT
END:VCALENDAR