BEGIN:VCALENDAR
VERSION:2.0
PRODID:-//Projet inclusion - ECPv5.11.0//NONSGML v1.0//EN
CALSCALE:GREGORIAN
METHOD:PUBLISH
X-WR-CALNAME:Projet inclusion
X-ORIGINAL-URL:https://pceim.ca
X-WR-CALDESC:évènements pour Projet inclusion
BEGIN:VTIMEZONE
TZID:UTC
BEGIN:STANDARD
TZOFFSETFROM:+0000
TZOFFSETTO:+0000
TZNAME:UTC
DTSTART:20180101T000000
END:STANDARD
END:VTIMEZONE
BEGIN:VEVENT
DTSTART;TZID=UTC:20180619T131500
DTEND;TZID=UTC:20180619T150000
DTSTAMP:20260424T014421
CREATED:20180323T162913Z
LAST-MODIFIED:20180323T162913Z
UID:522-1529414100-1529420400@pceim.ca
SUMMARY:Musée des beaux-arts
DESCRIPTION:Le mardi 19 juin\, de 13h15 à 15h\, profitez d’une visite guidée de cette expo qui met en regard des œuvres non occidentales et celles de Picasso en s’appuyant sur une anthropologie de l’art. Les places sont limitées\, inscrivez-vous au 514-255-1054.
URL:https://pceim.ca/evenement/musee-beaux-arts/
LOCATION:Musée des beaux-arts de Montréal\, 2200\, rue Crescent\, Montréal\, Quebec\, Canada
CATEGORIES:PROJET DE L'ORGANISME
ATTACH;FMTTYPE=image/jpeg:https://pceim.ca/wp-content/uploads/2018/03/dafrique-aux-ameriques-picasso-en-face-a-face-dhier-a-aujourdhui-mere-et-enfant-paris-ete-1907.jpg
END:VEVENT
END:VCALENDAR