BEGIN:VCALENDAR
VERSION:2.0
PRODID:-//Projet inclusion - ECPv5.11.0//NONSGML v1.0//EN
CALSCALE:GREGORIAN
METHOD:PUBLISH
X-WR-CALNAME:Projet inclusion
X-ORIGINAL-URL:https://pceim.ca
X-WR-CALDESC:évènements pour Projet inclusion
BEGIN:VTIMEZONE
TZID:UTC
BEGIN:STANDARD
TZOFFSETFROM:+0000
TZOFFSETTO:+0000
TZNAME:UTC
DTSTART:20190101T000000
END:STANDARD
END:VTIMEZONE
BEGIN:VEVENT
DTSTART;TZID=UTC:20190508T103000
DTEND;TZID=UTC:20190508T123000
DTSTAMP:20260424T050501
CREATED:20190415T142127Z
LAST-MODIFIED:20190415T142156Z
UID:822-1557311400-1557318600@pceim.ca
SUMMARY:Parlons Santé
DESCRIPTION:Dans le cadre de la semaine de la santé mentale\, nous vous proposons de vous réunir lors d’une pause café pour parler santé. Sur le thème «Donnez du sens à votre action!» nous discuterons et travaillerons en groupe sur votre vision de la santé mentale. \nPCEIM | 5350\, rue Lafond\n10h30 à 12h30 | Gratuit \n+ GOOGLE AGENDA+ EXPORTER VERS ICAL
URL:https://pceim.ca/evenement/parlons-sante/
CATEGORIES:ÉVÈNEMENT
ATTACH;FMTTYPE=image/jpeg:https://pceim.ca/wp-content/uploads/2019/04/calendrier-cafe-rencontre-300x200.jpg
END:VEVENT
END:VCALENDAR