BEGIN:VCALENDAR
VERSION:2.0
PRODID:-//Projet inclusion - ECPv5.11.0//NONSGML v1.0//EN
CALSCALE:GREGORIAN
METHOD:PUBLISH
X-WR-CALNAME:Projet inclusion
X-ORIGINAL-URL:https://pceim.ca
X-WR-CALDESC:évènements pour Projet inclusion
BEGIN:VTIMEZONE
TZID:UTC
BEGIN:STANDARD
TZOFFSETFROM:+0000
TZOFFSETTO:+0000
TZNAME:UTC
DTSTART:20190101T000000
END:STANDARD
END:VTIMEZONE
BEGIN:VEVENT
DTSTART;TZID=UTC:20190424T194500
DTEND;TZID=UTC:20190424T213000
DTSTAMP:20260424T035756
CREATED:20190325T183845Z
LAST-MODIFIED:20190325T183845Z
UID:793-1556135100-1556141400@pceim.ca
SUMMARY:Pièce de Théâtre
DESCRIPTION:Nous vous proposons le mercredi 24 avril une pièce de théâtre au Théâtre Quat’ Sous intitulée “Scène de la vie conjugale”. \nMERCREDI 24 AVRIL\nThéâtre Quat’ Sous | 100 avenue des Pins Est\nA partir de 19h45 | 10$ | Inscription au 514.255.1054 \n+ GOOGLE AGENDA+ EXPORTER VERS ICAL
URL:https://pceim.ca/evenement/piece-de-theatre/
CATEGORIES:ACTIVITÉ ORGANISÉE PAR LES MEMBRES
ATTACH;FMTTYPE=image/jpeg:https://pceim.ca/wp-content/uploads/2019/03/scne-de-la-vie-conjugale.jpg
END:VEVENT
END:VCALENDAR