BEGIN:VCALENDAR
VERSION:2.0
PRODID:-//Projet inclusion - ECPv5.11.0//NONSGML v1.0//EN
CALSCALE:GREGORIAN
METHOD:PUBLISH
X-WR-CALNAME:Projet inclusion
X-ORIGINAL-URL:https://pceim.ca
X-WR-CALDESC:évènements pour Projet inclusion
BEGIN:VTIMEZONE
TZID:UTC
BEGIN:STANDARD
TZOFFSETFROM:+0000
TZOFFSETTO:+0000
TZNAME:UTC
DTSTART:20190101T000000
END:STANDARD
END:VTIMEZONE
BEGIN:VEVENT
DTSTART;TZID=UTC:20190628T110000
DTEND;TZID=UTC:20190628T130000
DTSTAMP:20260423T232754
CREATED:20180703T160110Z
LAST-MODIFIED:20190515T194906Z
UID:582-1561719600-1561726800@pceim.ca
SUMMARY:Festivété: pique-nique
DESCRIPTION:Le vendredi 28 juin\, de 11h à 13h\, venez pique-niquer au Parc Lafond! Lunch fourni. Activité annulée en cas de pluie. Les places sont limitées\, inscrivez-vous au 514-255-1054. \nParc Lafond | 11h à 13h | Annulé en cas de pluie\nRepas\, breuvage et surprises prévues | 5$ \n+ GOOGLE AGENDA+ EXPORTER VERS ICAL
URL:https://pceim.ca/evenement/pique-nique-baignade/
LOCATION:Parc Pélican
CATEGORIES:ACTIVITÉ ORGANISÉE PAR LES MEMBRES
ATTACH;FMTTYPE=image/jpeg:https://pceim.ca/wp-content/uploads/2019/04/brittany-gaiser-482343-unsplash.jpg
END:VEVENT
END:VCALENDAR