BEGIN:VCALENDAR
VERSION:2.0
PRODID:-//Projet inclusion - ECPv5.11.0//NONSGML v1.0//EN
CALSCALE:GREGORIAN
METHOD:PUBLISH
X-WR-CALNAME:Projet inclusion
X-ORIGINAL-URL:https://pceim.ca
X-WR-CALDESC:évènements pour Projet inclusion
BEGIN:VTIMEZONE
TZID:UTC
BEGIN:STANDARD
TZOFFSETFROM:+0000
TZOFFSETTO:+0000
TZNAME:UTC
DTSTART:20190101T000000
END:STANDARD
END:VTIMEZONE
BEGIN:VEVENT
DTSTART;TZID=UTC:20190725T120000
DTEND;TZID=UTC:20190725T133000
DTSTAMP:20260424T003641
CREATED:20190712T192305Z
LAST-MODIFIED:20190712T193707Z
UID:962-1564056000-1564061400@pceim.ca
SUMMARY:Pique-nique communautaire
DESCRIPTION:On vous invite à vous joindre à nous pour profiter des beaux jours de l’été. Sous forme de pique-niques communautaires\, membres et employés se réunissent pour profiter d’un moment d’échange décontracté. Apporter votre lunch et rejoignez-nous de 12h à 13h30 les: 25 juillet \, 27 août et 10 septembre. \nChalet Mont-Royal | 1196 Camilien-Houde\n12h à 13h30 | Gratuit\nApportez votre lunch
URL:https://pceim.ca/evenement/pique-nique-communautaire-2/
CATEGORIES:PROJET DE L'ORGANISME
END:VEVENT
END:VCALENDAR