BEGIN:VCALENDAR
VERSION:2.0
PRODID:-//Projet inclusion - ECPv5.11.0//NONSGML v1.0//EN
CALSCALE:GREGORIAN
METHOD:PUBLISH
X-WR-CALNAME:Projet inclusion
X-ORIGINAL-URL:https://pceim.ca
X-WR-CALDESC:évènements pour Projet inclusion
BEGIN:VTIMEZONE
TZID:UTC
BEGIN:STANDARD
TZOFFSETFROM:+0000
TZOFFSETTO:+0000
TZNAME:UTC
DTSTART:20190101T000000
END:STANDARD
END:VTIMEZONE
BEGIN:VEVENT
DTSTART;TZID=UTC:20190523T120000
DTEND;TZID=UTC:20190523T133000
DTSTAMP:20260424T040908
CREATED:20190415T143711Z
LAST-MODIFIED:20190415T143711Z
UID:838-1558612800-1558618200@pceim.ca
SUMMARY:Pique-nique communautaire
DESCRIPTION:On vous propose un moment pour venir discuter\, partager et échanger entre membres avec le beau temps : un pique-nique communautaire! Venez passer un moment ensemble avec nous! La formule est simple : apportez votre lunch et profitez du soleil! \nPIQUE-NIQUE COMMUNAUTAIRE\nParc du Pélican | Point de rencontre à la piscine du Pélican\, 2560 rue Masson\n12h à 13h30 | Gratuit\nApportez votre lunch
URL:https://pceim.ca/evenement/pique-nique-communautaire/
CATEGORIES:PROJET DE L'ORGANISME
ATTACH;FMTTYPE=image/jpeg:https://pceim.ca/wp-content/uploads/2019/04/brittany-gaiser-482343-unsplash.jpg
END:VEVENT
END:VCALENDAR