BEGIN:VCALENDAR
VERSION:2.0
PRODID:-//Projet inclusion - ECPv5.11.0//NONSGML v1.0//EN
CALSCALE:GREGORIAN
METHOD:PUBLISH
X-WR-CALNAME:Projet inclusion
X-ORIGINAL-URL:https://pceim.ca
X-WR-CALDESC:évènements pour Projet inclusion
BEGIN:VTIMEZONE
TZID:UTC
BEGIN:STANDARD
TZOFFSETFROM:+0000
TZOFFSETTO:+0000
TZNAME:UTC
DTSTART:20180101T000000
END:STANDARD
END:VTIMEZONE
BEGIN:VEVENT
DTSTART;TZID=UTC:20180621T130000
DTEND;TZID=UTC:20180621T153000
DTSTAMP:20260424T025936
CREATED:20180323T154335Z
LAST-MODIFIED:20180323T154335Z
UID:461-1529586000-1529595000@pceim.ca
SUMMARY:Planification de cuisine collective
DESCRIPTION:Venez participer à la proposition et au choix des recettes\, ainsi qu’à la répartition des tâches en prévision de la cuisine collective du mois! Activité gratuite. Inscription au 514-255-1054.
URL:https://pceim.ca/evenement/planification-de-cuisine-collective-5/
LOCATION:PCEIM\, 5350 rue Lafond\, Montréal\, Québec\, H1X 2X2\, Canada
CATEGORIES:PROJET DE L'ORGANISME
ATTACH;FMTTYPE=image/jpeg:https://pceim.ca/wp-content/uploads/2018/01/calendrier-planif-cuisine.jpg
END:VEVENT
END:VCALENDAR