BEGIN:VCALENDAR
VERSION:2.0
PRODID:-//Projet inclusion - ECPv5.11.0//NONSGML v1.0//EN
CALSCALE:GREGORIAN
METHOD:PUBLISH
X-WR-CALNAME:Projet inclusion
X-ORIGINAL-URL:https://pceim.ca
X-WR-CALDESC:évènements pour Projet inclusion
BEGIN:VTIMEZONE
TZID:UTC
BEGIN:STANDARD
TZOFFSETFROM:+0000
TZOFFSETTO:+0000
TZNAME:UTC
DTSTART:20220101T000000
END:STANDARD
END:VTIMEZONE
BEGIN:VEVENT
DTSTART;TZID=UTC:20220622T080000
DTEND;TZID=UTC:20220622T170000
DTSTAMP:20260421T030050
CREATED:20220704T133047Z
LAST-MODIFIED:20220622T144423Z
UID:1798-1655884800-1655917200@pceim.ca
SUMMARY:Projet artistique zine
DESCRIPTION:Projet artistique zine\nCentre Lapalme | 5350 Lafond\n13h30 à 15h30 \nLes membres ont été créatifs ces derniers mois\, autant pour l’écriture que pour les images. C’est un véritable plaisir de se voir régulièrement pour ce projet collectif! Nous poursuivons la création d’images en lien avec les textes avec des petits exercices amusants.
URL:https://pceim.ca/evenement/projet-artistique-zine-4/
CATEGORIES:PROJET DE L'ORGANISME
END:VEVENT
END:VCALENDAR