BEGIN:VCALENDAR
VERSION:2.0
PRODID:-//Projet inclusion - ECPv5.11.0//NONSGML v1.0//EN
CALSCALE:GREGORIAN
METHOD:PUBLISH
X-WR-CALNAME:Projet inclusion
X-ORIGINAL-URL:https://pceim.ca
X-WR-CALDESC:évènements pour Projet inclusion
BEGIN:VTIMEZONE
TZID:UTC
BEGIN:STANDARD
TZOFFSETFROM:+0000
TZOFFSETTO:+0000
TZNAME:UTC
DTSTART:20220101T000000
END:STANDARD
END:VTIMEZONE
BEGIN:VEVENT
DTSTART;TZID=UTC:20220411T133000
DTEND;TZID=UTC:20220411T153000
DTSTAMP:20260421T172837
CREATED:20220404T175920Z
LAST-MODIFIED:20220404T180247Z
UID:1690-1649683800-1649691000@pceim.ca
SUMMARY:Projet artistique zine
DESCRIPTION:Projet artistique zine\nCentre Lapalme | 5350 Lafond\n13h30 à 15h30 \nVenez rencontrez Annie et les membres du PCEIM autour d’un bon café! D’abord\, nous expliquerons plus en détails le projet zine et répondrons à vos questions. Ensuite\, guidé.es par Annie\, nous échangerons des idées en vue de la création de notre œuvre collective.
URL:https://pceim.ca/evenement/projet-artistique-zine/
LOCATION:PCEIM\, 5350 rue Lafond\, Montréal\, Québec\, H1X 2X2\, Canada
CATEGORIES:PROJET DE L'ORGANISME
END:VEVENT
END:VCALENDAR