BEGIN:VCALENDAR
VERSION:2.0
PRODID:-//Projet inclusion - ECPv5.11.0//NONSGML v1.0//EN
CALSCALE:GREGORIAN
METHOD:PUBLISH
X-WR-CALNAME:Projet inclusion
X-ORIGINAL-URL:https://pceim.ca
X-WR-CALDESC:évènements pour Projet inclusion
BEGIN:VTIMEZONE
TZID:UTC
BEGIN:STANDARD
TZOFFSETFROM:+0000
TZOFFSETTO:+0000
TZNAME:UTC
DTSTART:20190101T000000
END:STANDARD
END:VTIMEZONE
BEGIN:VEVENT
DTSTART;TZID=UTC:20190905T133000
DTEND;TZID=UTC:20190905T153000
DTSTAMP:20260423T160825
CREATED:20190913T155802Z
LAST-MODIFIED:20190913T155802Z
UID:1038-1567690200-1567697400@pceim.ca
SUMMARY:Projet vidéo-art
DESCRIPTION:Les participants travaillent sur la création d’un stop motion. Ce projet artistique de création de capsules de vidéo se veut rassembleur. Nous visons\, par le processus de création et la diffusion de capsules\, des changements dans les représentations des sociales de la santé mentale pour une société plus inclusive. \nVIDÉO-ART\nPCEIM | 5350\, rue Lafond\n13h30 à 15h | Gratuit
URL:https://pceim.ca/evenement/projet-video-art/
LOCATION:PCEIM\, 5350 rue Lafond\, Montréal\, Québec\, H1X 2X2\, Canada
CATEGORIES:PROJET DE L'ORGANISME
ATTACH;FMTTYPE=image/jpeg:https://pceim.ca/wp-content/uploads/2019/01/calendrier-atelier-art.jpg
END:VEVENT
END:VCALENDAR