BEGIN:VCALENDAR
VERSION:2.0
PRODID:-//Projet inclusion - ECPv5.11.0//NONSGML v1.0//EN
CALSCALE:GREGORIAN
METHOD:PUBLISH
X-WR-CALNAME:Projet inclusion
X-ORIGINAL-URL:https://pceim.ca
X-WR-CALDESC:évènements pour Projet inclusion
BEGIN:VTIMEZONE
TZID:UTC
BEGIN:STANDARD
TZOFFSETFROM:+0000
TZOFFSETTO:+0000
TZNAME:UTC
DTSTART:20180101T000000
END:STANDARD
END:VTIMEZONE
BEGIN:VEVENT
DTSTART;TZID=UTC:20181102T130000
DTEND;TZID=UTC:20181102T150000
DTSTAMP:20260424T040437
CREATED:20180925T211706Z
LAST-MODIFIED:20180925T211706Z
UID:638-1541163600-1541170800@pceim.ca
SUMMARY:Promenade en nature
DESCRIPTION:Parc de la Visitation | 2425 boul. Gouin E\n13h à 15h | Gratuit
URL:https://pceim.ca/evenement/promenade-en-nature/
CATEGORIES:ACTIVITÉ ORGANISÉE PAR LES MEMBRES
END:VEVENT
END:VCALENDAR