BEGIN:VCALENDAR
VERSION:2.0
PRODID:-//Projet inclusion - ECPv5.11.0//NONSGML v1.0//EN
CALSCALE:GREGORIAN
METHOD:PUBLISH
X-WR-CALNAME:Projet inclusion
X-ORIGINAL-URL:https://pceim.ca
X-WR-CALDESC:évènements pour Projet inclusion
BEGIN:VTIMEZONE
TZID:UTC
BEGIN:STANDARD
TZOFFSETFROM:+0000
TZOFFSETTO:+0000
TZNAME:UTC
DTSTART:20190101T000000
END:STANDARD
END:VTIMEZONE
BEGIN:VEVENT
DTSTART;TZID=UTC:20190118T130000
DTEND;TZID=UTC:20190118T143000
DTSTAMP:20260424T050401
CREATED:20190107T194416Z
LAST-MODIFIED:20190107T194416Z
UID:694-1547816400-1547821800@pceim.ca
SUMMARY:Retour cuisine collective
DESCRIPTION:Le vendredi 18 janvier\, de 13h à 14h30\, on commence l’année en douceur en faisant un retour et une évaluation de l’activité cuisine collective\, puis on fera l’inventaire de la cuisine! Activité gratuite\, inscrivez-vous au 514-255-1054.
URL:https://pceim.ca/evenement/retour-cuisine-collective/
LOCATION:PCEIM\, 5350 rue Lafond\, Montréal\, Québec\, H1X 2X2\, Canada
CATEGORIES:PROJET DE L'ORGANISME
ATTACH;FMTTYPE=image/jpeg:https://pceim.ca/wp-content/uploads/2018/01/calendrier-planif-cuisine.jpg
END:VEVENT
END:VCALENDAR