BEGIN:VCALENDAR
VERSION:2.0
PRODID:-//Projet inclusion - ECPv5.11.0//NONSGML v1.0//EN
CALSCALE:GREGORIAN
METHOD:PUBLISH
X-WR-CALNAME:Projet inclusion
X-ORIGINAL-URL:https://pceim.ca
X-WR-CALDESC:évènements pour Projet inclusion
BEGIN:VTIMEZONE
TZID:UTC
BEGIN:STANDARD
TZOFFSETFROM:+0000
TZOFFSETTO:+0000
TZNAME:UTC
DTSTART:20190101T000000
END:STANDARD
END:VTIMEZONE
BEGIN:VEVENT
DTSTART;TZID=UTC:20191024T130000
DTEND;TZID=UTC:20191024T150000
DTSTAMP:20260423T025708
CREATED:20190922T210111Z
LAST-MODIFIED:20190922T210111Z
UID:1077-1571922000-1571929200@pceim.ca
SUMMARY:Sortie au café-céramique
DESCRIPTION:Le jeudi 24 octobre\, de 13h à 15h\, venez prendre un café et expérimenter la peinture sur une pièce de céramique de votre choix! Le PCEIM paie le temps et le matériel\, et chacun choisit et paie sa pièce (15-20$). Places limitées\, inscription au 514-255-1054.
URL:https://pceim.ca/evenement/sortie-au-cafe-ceramique/
LOCATION:Céramic Café\, 4338\, rue Saint-Denis\, Montréal\, Québec\, Canada
CATEGORIES:ACTIVITÉ ORGANISÉE PAR LES MEMBRES
ATTACH;FMTTYPE=image/jpeg:https://pceim.ca/wp-content/uploads/2019/01/calendrier-atelier-art.jpg
END:VEVENT
END:VCALENDAR