BEGIN:VCALENDAR
VERSION:2.0
PRODID:-//Projet inclusion - ECPv5.11.0//NONSGML v1.0//EN
CALSCALE:GREGORIAN
METHOD:PUBLISH
X-WR-CALNAME:Projet inclusion
X-ORIGINAL-URL:https://pceim.ca
X-WR-CALDESC:évènements pour Projet inclusion
BEGIN:VTIMEZONE
TZID:UTC
BEGIN:STANDARD
TZOFFSETFROM:+0000
TZOFFSETTO:+0000
TZNAME:UTC
DTSTART:20220101T000000
END:STANDARD
END:VTIMEZONE
BEGIN:VEVENT
DTSTART;TZID=UTC:20220513T131500
DTEND;TZID=UTC:20220513T153000
DTSTAMP:20260420T202115
CREATED:20220429T161911Z
LAST-MODIFIED:20220429T162236Z
UID:1741-1652447700-1652455800@pceim.ca
SUMMARY:Sortie au musée
DESCRIPTION:SORTIE AU MUSÉE\nMusée des beaux-arts de MTL\n1380 Sherbrooke O | 13h15 à 15h30 \nVenez visiter l’expo L’heure mauve de Nicolas Party\, qui présente des œuvres variées aux couleurs vibrantes exprimant les liens complexes entre l’humain et la nature. Un voyage dans un univers coloré\, à la découverte de paysages peuplés d’animaux et de personnages fascinants.
URL:https://pceim.ca/evenement/sortie-au-musee/
LOCATION:Musée des beaux-arts de Montréal\, 2200\, rue Crescent\, Montréal\, Quebec\, Canada
CATEGORIES:PROJET DE L'ORGANISME
END:VEVENT
END:VCALENDAR