BEGIN:VCALENDAR
VERSION:2.0
PRODID:-//Projet inclusion - ECPv5.11.0//NONSGML v1.0//EN
CALSCALE:GREGORIAN
METHOD:PUBLISH
X-WR-CALNAME:Projet inclusion
X-ORIGINAL-URL:https://pceim.ca
X-WR-CALDESC:évènements pour Projet inclusion
BEGIN:VTIMEZONE
TZID:UTC
BEGIN:STANDARD
TZOFFSETFROM:+0000
TZOFFSETTO:+0000
TZNAME:UTC
DTSTART:20190101T000000
END:STANDARD
END:VTIMEZONE
BEGIN:VEVENT
DTSTART;TZID=UTC:20190309T190000
DTEND;TZID=UTC:20190309T210000
DTSTAMP:20260423T061641
CREATED:20190221T212849Z
LAST-MODIFIED:20190306T154030Z
UID:742-1552158000-1552165200@pceim.ca
SUMMARY:Spectacle "au bout de ta langue"
DESCRIPTION:Le samedi 9 mars 2019\, on vous propose le spectacle d’humour et de poésie de David Goudreault\, intitulé “au bout de ta langue”. C’est une représentation décontractée dans un environnement calme et inclusif. Places limitées\, inscription au 514-255-1054. \nMaison de la culture pointe aux trembles | 14001 Notre-Dame Est\n19h00 à 21h00 | Gratuit | Places limitées \n  \n 
URL:https://pceim.ca/evenement/spectacle-au-bout-de-ta-langue/
CATEGORIES:ACTIVITÉ ORGANISÉE PAR LES MEMBRES,PROJET DE L'ORGANISME
ATTACH;FMTTYPE=image/jpeg:https://pceim.ca/wp-content/uploads/2019/02/david-goudrault.jpg
END:VEVENT
END:VCALENDAR