BEGIN:VCALENDAR
VERSION:2.0
PRODID:-//Projet inclusion - ECPv5.11.0//NONSGML v1.0//EN
CALSCALE:GREGORIAN
METHOD:PUBLISH
X-WR-CALNAME:Projet inclusion
X-ORIGINAL-URL:https://pceim.ca
X-WR-CALDESC:évènements pour Projet inclusion
BEGIN:VTIMEZONE
TZID:UTC
BEGIN:STANDARD
TZOFFSETFROM:+0000
TZOFFSETTO:+0000
TZNAME:UTC
DTSTART:20180101T000000
END:STANDARD
END:VTIMEZONE
BEGIN:VEVENT
DTSTART;TZID=UTC:20180221T193000
DTEND;TZID=UTC:20180221T213000
DTSTAMP:20260424T101004
CREATED:20180109T200937Z
LAST-MODIFIED:20180109T200937Z
UID:381-1519241400-1519248600@pceim.ca
SUMMARY:Spectacle d'humour
DESCRIPTION:Le mercredi 21 février\, de 19h30 à 21h30\, venez voir un show d’humour au Bordel. L’identité des humoristes présents chaque soir n’est jamais annoncée\, ce sera une surprise une fois sur place! 5$/personne. Places limitées\, inscription au 514-255-1054.
URL:https://pceim.ca/evenement/spectacle-dhumour/
LOCATION:Club Le Bordel\, 312\, rue Ontario est\, Montréal\, Québec\, Canada
CATEGORIES:ACTIVITÉ ORGANISÉE PAR LES MEMBRES
END:VEVENT
END:VCALENDAR